BEGIN:VCALENDAR
VERSION:2.0
PRODID:GlueUp
CALSCALE:GREGORIAN
BEGIN:VTIMEZONE
TZID:UTC
BEGIN:STANDARD
DTSTART:19700101T000000
TZOFFSETFROM:+0000
TZOFFSETTO:+0000
TZNAME:UTC
END:STANDARD
END:VTIMEZONE
BEGIN:VEVENT
TZ:+00
ORGANIZER;CN=Benelux Chamber of Commerce South China:MAILTO:prd@bencham.org
UID:50016-1776865468@https://benchamprd.glueup.cn
DTSTAMP:20260422T134428Z
DTSTART:20260416T060000Z
DTEND:20260416T090000Z
SUMMARY:Bridging China to ASEAN: Opportunities for Foreign Companies in China
DESCRIPTION:Bridging China to ASEAN: Opportunities for Foreign Companies in China by Benelux Chamber of Commerce South China\n\nApr 16, 2026 (14:00 - 17:00)(GMT+8)\n\nFor more information, click here: https://benchamprd.glueup.cn/my/events/50016
LOCATION:Wang Jing & GH Law Firm - T3-2402 - Kerry Properties Plaza - No. 1-1 Zhongxin 4th Road - Futian District Shenzhen - Guangdong - China
BEGIN:VALARM
TRIGGER:-PT48H
REPEAT:4
DURATION:PT30M
ACTION:DISPLAY
END:VALARM
END:VEVENT
END:VCALENDAR